BEGIN:VCALENDAR
VERSION:2.0
PRODID:-//The Inn, South Stainley - ECPv6.11.2//NONSGML v1.0//EN
CALSCALE:GREGORIAN
METHOD:PUBLISH
X-WR-CALNAME:The Inn, South Stainley
X-ORIGINAL-URL:https://www.theinnsouthstainley.com
X-WR-CALDESC:Events for The Inn, South Stainley
REFRESH-INTERVAL;VALUE=DURATION:PT1H
X-Robots-Tag:noindex
X-PUBLISHED-TTL:PT1H
BEGIN:VTIMEZONE
TZID:Europe/London
BEGIN:DAYLIGHT
TZOFFSETFROM:+0000
TZOFFSETTO:+0100
TZNAME:BST
DTSTART:20250330T010000
END:DAYLIGHT
BEGIN:STANDARD
TZOFFSETFROM:+0100
TZOFFSETTO:+0000
TZNAME:GMT
DTSTART:20251026T010000
END:STANDARD
BEGIN:DAYLIGHT
TZOFFSETFROM:+0000
TZOFFSETTO:+0100
TZNAME:BST
DTSTART:20260329T010000
END:DAYLIGHT
BEGIN:STANDARD
TZOFFSETFROM:+0100
TZOFFSETTO:+0000
TZNAME:GMT
DTSTART:20261025T010000
END:STANDARD
END:VTIMEZONE
BEGIN:VEVENT
DTSTART;VALUE=DATE:20250531
DTEND;VALUE=DATE:20260701
DTSTAMP:20260420T043833
CREATED:20250531T183418Z
LAST-MODIFIED:20260408T090737Z
UID:1119-1748649600-1782863999@www.theinnsouthstainley.com
SUMMARY:Fixed Price Specials Menu
DESCRIPTION:Enjoy a delicious dining experience with our Fixed Price Menu\, featuring seasonal dishes thoughtfully crafted by Head Chef Shane White and his team. Using the best of local Yorkshire produce\, this menu is perfect for a relaxing midweek treat\, a business lunch\, or an early dinner before your evening plans. \nThe menu changes monthly\, offering fresh inspiration and variety each time you visit. \n2 Courses – £25.003 Courses – £30.00 \nServed:Lunch: Monday – Friday\, 12:00 – 14:30Early Dinner: Monday – Thursday\, 17:00 – 20:30 \nSee current menu: HERE
URL:https://www.theinnsouthstainley.com/event/fixed-price-specials-menu/
LOCATION:Harrogate
CATEGORIES:Special Offers
ATTACH;FMTTYPE=image/jpeg:https://www.theinnsouthstainley.com/wp-content/uploads/2025/05/The-Inn-Social-Media-2.jpg
END:VEVENT
BEGIN:VEVENT
DTSTART;TZID=Europe/London:20251231T080000
DTEND;TZID=Europe/London:20260102T170000
DTSTAMP:20260420T043833
CREATED:20251114T094220Z
LAST-MODIFIED:20251114T094220Z
UID:1627-1767168000-1767373200@www.theinnsouthstainley.com
SUMMARY:New Year’s Break
DESCRIPTION:Why rush home when you can begin 2026 in total comfort? \nJoin us at The Inn South Stainley for a 2-night New Year’s residential break – filled with delicious food\, fizz\, and Yorkshire hospitality in a cosy countryside setting. \nDates: 31st December 2025 – 2nd January 2026 \nYour Stay Includes: \n\n\nWelcome drink and festive cream tea on arrival \n\n\nBottle of fizz on ice in your room \n\n\n£50 per person New Year’s Eve dinner allowance \n\n\n‘Haggis\, Neeps & Tatties’ and a glass of fizz at midnight \n\n\nNew Year’s Day full Yorkshire breakfast including Bucks Fizz \n\n\n£35 per person dinner allowance on New Year’s Day \n\n\nFull Yorkshire breakfast prior to departure \n\n\nRoom Rates (per person\, per night): \n\n\nClassic Double – £165 \n\n\nClassic King – £175 \n\n\nLodge Superior King – £190 \n\n\nTo book\, contact us at: info@theinnsouthstainley.com
URL:https://www.theinnsouthstainley.com/event/new-years-break/
LOCATION:The Inn South Stainley\, Ripon Road\, South Stainley\, Harrogate\, HG3 3ND\, United Kingdom
CATEGORIES:Special Offers
ATTACH;FMTTYPE=image/jpeg:https://www.theinnsouthstainley.com/wp-content/uploads/2025/11/NYE-5.jpg
END:VEVENT
BEGIN:VEVENT
DTSTART;TZID=Europe/London:20251231T180000
DTEND;TZID=Europe/London:20260101T010000
DTSTAMP:20260420T043833
CREATED:20250916T102207Z
LAST-MODIFIED:20251120T141307Z
UID:1554-1767204000-1767229200@www.theinnsouthstainley.com
SUMMARY:New Year’s Eve
DESCRIPTION:Wednesday 31st December 2025 \nSay goodbye to 2025 and welcome 2026 in style with a relaxed yet indulgent evening of great food\, fine wine and good company. \nEnjoy a delicious New Year’s Eve menu\, lovingly prepared by our Head Chef Shane White and his team\, followed by a relaxed celebration in the comfort of our stylish countryside inn and we will be serving ‘Haggis\, Neeps & Tatties’ at midnight! \nCelebrate with our DJ from 9:30pm until late! \nSee the menu HERE \nYou can also take advantage of our 2-night New Year’s residential break – filled with delicious food\, fizz\, and Yorkshire hospitality in a cosy countryside setting. \nFind out more HERE \n 
URL:https://www.theinnsouthstainley.com/event/new-years-eve/
LOCATION:The Inn South Stainley\, Ripon Road\, South Stainley\, Harrogate\, HG3 3ND\, United Kingdom
CATEGORIES:Events
ATTACH;FMTTYPE=image/jpeg:https://www.theinnsouthstainley.com/wp-content/uploads/2025/09/NYE-4.jpg
END:VEVENT
BEGIN:VEVENT
DTSTART;TZID=Europe/London:20260101T090000
DTEND;TZID=Europe/London:20260101T200000
DTSTAMP:20260420T043833
CREATED:20251106T160419Z
LAST-MODIFIED:20251106T161229Z
UID:1602-1767258000-1767297600@www.theinnsouthstainley.com
SUMMARY:New Year's Day
DESCRIPTION:Ease into 2026 with a relaxed and hearty New Year’s Day at The Inn. Whether you’re recovering from the night before or kicking off the year with family and friends\, join us for great food\, warm hospitality\, and cosy countryside vibes. \nNew Year’s Day Breakfast – Served 9.00am – 11.00amEnjoy a laid-back start to the year with our full Yorkshire breakfast\, fresh coffee\, pastries\, and lighter options. \nNew Year’s Day Lunch – Served 12.00pm – 8.00pmOur chefs will be serving a comforting menu of Sunday lunch favourites and seasonal pub classics…the perfect remedy after a busy festive season. \nBookings now open – email info@theinnsouthstainley.com to reserve your table.
URL:https://www.theinnsouthstainley.com/event/new-years-day/
LOCATION:The Inn South Stainley\, Ripon Road\, South Stainley\, Harrogate\, HG3 3ND\, United Kingdom
CATEGORIES:Events
ATTACH;FMTTYPE=image/png:https://www.theinnsouthstainley.com/wp-content/uploads/2025/11/NYE.png
END:VEVENT
BEGIN:VEVENT
DTSTART;TZID=Europe/London:20260125T190000
DTEND;TZID=Europe/London:20260125T233000
DTSTAMP:20260420T043833
CREATED:20251114T094934Z
LAST-MODIFIED:20260106T134810Z
UID:1631-1769367600-1769383800@www.theinnsouthstainley.com
SUMMARY:Burns Night
DESCRIPTION:Celebrate the life and legacy of Robert Burns with an evening of hearty food\, Scottish tradition and Yorkshire hospitality. \nJoin us for a relaxed yet atmospheric night\, featuring a beautifully crafted Burns Night menu from Head Chef Shane White and his team\, showcasing the finest local and Scottish ingredients. \nEnjoy the stirring sound of bagpipes on arrival and witness the traditional Address to the Haggis as part of this special celebration. \nBurns Night Menu at £49.00 per person\nStarter \n\n\n‘Cullen Skink’ – smoked haddock chowder\, warm bread \n\n\nBeetroot Salad – Isle of Mull cheddar\, rocket\, balsamic caramel (V\, GF) \n\n\nIntermediate \n\n\nTraditional haggis\, neeps & tatties (vegetarian option available) \n\n\nMain Course \n\n\nPan roasted 4oz fillet of Yorkshire beef – charred sprouts\, haggis bon bon\, caramelised onion & malt whisky jus (GFA) \n\n\nHerb crusted Scottish salmon – ‘Clap Shot’\, lemon\, shallot & dill sauce (GF) \n\n\nDessert \n\n\nCranachan cheesecake with fresh raspberries \n\n\nRabbie Burns whisky chocolate brownie – honey\, raspberries\, clotted cream \n\n\nTo Finish \n\n\nYorkshire tea or locally roasted coffee and a sweet treat \n\n\nTo book\, contact us at info@theinnsouthstainley.com
URL:https://www.theinnsouthstainley.com/event/burns-night/
LOCATION:The Inn South Stainley\, Ripon Road\, South Stainley\, Harrogate\, HG3 3ND\, United Kingdom
CATEGORIES:Events
ATTACH;FMTTYPE=image/jpeg:https://www.theinnsouthstainley.com/wp-content/uploads/2025/11/NYE-3.jpg
END:VEVENT
END:VCALENDAR