BEGIN:VCALENDAR
VERSION:2.0
PRODID:-//The Inn, South Stainley - ECPv6.11.2//NONSGML v1.0//EN
CALSCALE:GREGORIAN
METHOD:PUBLISH
X-ORIGINAL-URL:https://www.theinnsouthstainley.com
X-WR-CALDESC:Events for The Inn, South Stainley
REFRESH-INTERVAL;VALUE=DURATION:PT1H
X-Robots-Tag:noindex
X-PUBLISHED-TTL:PT1H
BEGIN:VTIMEZONE
TZID:Europe/London
BEGIN:DAYLIGHT
TZOFFSETFROM:+0000
TZOFFSETTO:+0100
TZNAME:BST
DTSTART:20250330T010000
END:DAYLIGHT
BEGIN:STANDARD
TZOFFSETFROM:+0100
TZOFFSETTO:+0000
TZNAME:GMT
DTSTART:20251026T010000
END:STANDARD
BEGIN:DAYLIGHT
TZOFFSETFROM:+0000
TZOFFSETTO:+0100
TZNAME:BST
DTSTART:20260329T010000
END:DAYLIGHT
BEGIN:STANDARD
TZOFFSETFROM:+0100
TZOFFSETTO:+0000
TZNAME:GMT
DTSTART:20261025T010000
END:STANDARD
END:VTIMEZONE
BEGIN:VEVENT
DTSTART;VALUE=DATE:20250531
DTEND;VALUE=DATE:20260701
DTSTAMP:20260420T031307
CREATED:20250531T183418Z
LAST-MODIFIED:20260408T090737Z
UID:1119-1748649600-1782863999@www.theinnsouthstainley.com
SUMMARY:Fixed Price Specials Menu
DESCRIPTION:Enjoy a delicious dining experience with our Fixed Price Menu\, featuring seasonal dishes thoughtfully crafted by Head Chef Shane White and his team. Using the best of local Yorkshire produce\, this menu is perfect for a relaxing midweek treat\, a business lunch\, or an early dinner before your evening plans. \nThe menu changes monthly\, offering fresh inspiration and variety each time you visit. \n2 Courses – £25.003 Courses – £30.00 \nServed:Lunch: Monday – Friday\, 12:00 – 14:30Early Dinner: Monday – Thursday\, 17:00 – 20:30 \nSee current menu: HERE
URL:https://www.theinnsouthstainley.com/event/fixed-price-specials-menu/
LOCATION:Harrogate
CATEGORIES:Special Offers
ATTACH;FMTTYPE=image/jpeg:https://www.theinnsouthstainley.com/wp-content/uploads/2025/05/The-Inn-Social-Media-2.jpg
END:VEVENT
BEGIN:VEVENT
DTSTART;TZID=Europe/London:20260216T080000
DTEND;TZID=Europe/London:20260220T210000
DTSTAMP:20260420T031307
CREATED:20260121T123722Z
LAST-MODIFIED:20260127T174444Z
UID:1774-1771228800-1771621200@www.theinnsouthstainley.com
SUMMARY:Kids Eat Free
DESCRIPTION:Kids eat free at The Inn South Stainley from Monday 16th – Friday 20th February. \nGather the whole family together for a special half term outing and enjoy a delicious meal & some precious quality time in our friendly\, welcoming atmosphere. \nOur children’s menu is packed with favourites that little appetites love\, from Yorkshire Pork Sausage Hot Dogs\, to mouth-watering Ice Cream Sundaes. \nView the full menu HERE. \nBook your table below\, and we hope to see you soon! \nT&Cs: A free children’s main course with every full-priced adult main course ordered from the à la carte menu. Not valid with set menus.
URL:https://www.theinnsouthstainley.com/event/kids-eat-free/
LOCATION:The Inn South Stainley\, Ripon Road\, South Stainley\, Harrogate\, HG3 3ND\, United Kingdom
CATEGORIES:Special Offers
ATTACH;FMTTYPE=image/jpeg:https://www.theinnsouthstainley.com/wp-content/uploads/2026/01/The-Inn-EVENTS-2.jpg
END:VEVENT
BEGIN:VEVENT
DTSTART;TZID=Europe/London:20260216T120000
DTEND;TZID=Europe/London:20260221T170000
DTSTAMP:20260420T031307
CREATED:20250907T182738Z
LAST-MODIFIED:20260206T174412Z
UID:1513-1771243200-1771693200@www.theinnsouthstainley.com
SUMMARY:Harrogate Restaurant Week
DESCRIPTION:We’re delighted to be part of Harrogate Restaurant Week\, serving up great food and even better value. \nJoin us from Monday 16th – Friday 20th (12.00pm – 2.30pm & 5.00pm – 8.30pm) and on Saturday 21st February (12.00pm – 4.00pm) for a special menu that’s perfect for food lovers. \n3 Courses + warm bread to start – £25.00 per person \n2 Courses + warm bread to start – £20.00 per person \nIt’s the ideal chance to enjoy a relaxed lunch\, early supper\, or weekend treat in our countryside pub just minutes from Harrogate. \nSee the menu HERE \nTables are limited\, so book early to avoid missing out.
URL:https://www.theinnsouthstainley.com/event/harrogate-restaurant-week/
LOCATION:The Inn South Stainley\, Ripon Road\, South Stainley\, Harrogate\, HG3 3ND\, United Kingdom
CATEGORIES:Special Offers
ATTACH;FMTTYPE=image/jpeg:https://www.theinnsouthstainley.com/wp-content/uploads/2025/09/HARROGATE-RESTAURANT-WEEK.jpg
END:VEVENT
BEGIN:VEVENT
DTSTART;TZID=Europe/London:20260217T170000
DTEND;TZID=Europe/London:20260217T210000
DTSTAMP:20260420T031307
CREATED:20260115T172958Z
LAST-MODIFIED:20260205T181816Z
UID:1760-1771347600-1771362000@www.theinnsouthstainley.com
SUMMARY:Chinese New Year
DESCRIPTION:Celebrate the Year of the Horse at The Inn South Stainley and enjoy our Chinese New Year Specials menu. \nFrom favourites like Kung Po Crispy Battered Chicken to other classic dishes\, our menu brings traditional Chinese flavours to life\, all served with the warm Yorkshire hospitality you know and love. \nTake a look at the full menu HERE. \nSecure your table now by booking below.
URL:https://www.theinnsouthstainley.com/event/chinese-new-year/
LOCATION:The Inn South Stainley\, Ripon Road\, South Stainley\, Harrogate\, HG3 3ND\, United Kingdom
CATEGORIES:Events
ATTACH;FMTTYPE=image/jpeg:https://www.theinnsouthstainley.com/wp-content/uploads/2026/01/NYE-1.jpg
END:VEVENT
END:VCALENDAR