BEGIN:VCALENDAR
VERSION:2.0
PRODID:-//The Inn, South Stainley - ECPv6.11.2//NONSGML v1.0//EN
CALSCALE:GREGORIAN
METHOD:PUBLISH
X-WR-CALNAME:The Inn, South Stainley
X-ORIGINAL-URL:https://www.theinnsouthstainley.com
X-WR-CALDESC:Events for The Inn, South Stainley
REFRESH-INTERVAL;VALUE=DURATION:PT1H
X-Robots-Tag:noindex
X-PUBLISHED-TTL:PT1H
BEGIN:VTIMEZONE
TZID:Europe/London
BEGIN:DAYLIGHT
TZOFFSETFROM:+0000
TZOFFSETTO:+0100
TZNAME:BST
DTSTART:20250330T010000
END:DAYLIGHT
BEGIN:STANDARD
TZOFFSETFROM:+0100
TZOFFSETTO:+0000
TZNAME:GMT
DTSTART:20251026T010000
END:STANDARD
BEGIN:DAYLIGHT
TZOFFSETFROM:+0000
TZOFFSETTO:+0100
TZNAME:BST
DTSTART:20260329T010000
END:DAYLIGHT
BEGIN:STANDARD
TZOFFSETFROM:+0100
TZOFFSETTO:+0000
TZNAME:GMT
DTSTART:20261025T010000
END:STANDARD
END:VTIMEZONE
BEGIN:VEVENT
DTSTART;VALUE=DATE:20250531
DTEND;VALUE=DATE:20260701
DTSTAMP:20260420T042308
CREATED:20250531T183418Z
LAST-MODIFIED:20260408T090737Z
UID:1119-1748649600-1782863999@www.theinnsouthstainley.com
SUMMARY:Fixed Price Specials Menu
DESCRIPTION:Enjoy a delicious dining experience with our Fixed Price Menu\, featuring seasonal dishes thoughtfully crafted by Head Chef Shane White and his team. Using the best of local Yorkshire produce\, this menu is perfect for a relaxing midweek treat\, a business lunch\, or an early dinner before your evening plans. \nThe menu changes monthly\, offering fresh inspiration and variety each time you visit. \n2 Courses – £25.003 Courses – £30.00 \nServed:Lunch: Monday – Friday\, 12:00 – 14:30Early Dinner: Monday – Thursday\, 17:00 – 20:30 \nSee current menu: HERE
URL:https://www.theinnsouthstainley.com/event/fixed-price-specials-menu/
LOCATION:Harrogate
CATEGORIES:Special Offers
ATTACH;FMTTYPE=image/jpeg:https://www.theinnsouthstainley.com/wp-content/uploads/2025/05/The-Inn-Social-Media-2.jpg
END:VEVENT
BEGIN:VEVENT
DTSTART;TZID=Europe/London:20260125T190000
DTEND;TZID=Europe/London:20260125T233000
DTSTAMP:20260420T042308
CREATED:20251114T094934Z
LAST-MODIFIED:20260106T134810Z
UID:1631-1769367600-1769383800@www.theinnsouthstainley.com
SUMMARY:Burns Night
DESCRIPTION:Celebrate the life and legacy of Robert Burns with an evening of hearty food\, Scottish tradition and Yorkshire hospitality. \nJoin us for a relaxed yet atmospheric night\, featuring a beautifully crafted Burns Night menu from Head Chef Shane White and his team\, showcasing the finest local and Scottish ingredients. \nEnjoy the stirring sound of bagpipes on arrival and witness the traditional Address to the Haggis as part of this special celebration. \nBurns Night Menu at £49.00 per person\nStarter \n\n\n‘Cullen Skink’ – smoked haddock chowder\, warm bread \n\n\nBeetroot Salad – Isle of Mull cheddar\, rocket\, balsamic caramel (V\, GF) \n\n\nIntermediate \n\n\nTraditional haggis\, neeps & tatties (vegetarian option available) \n\n\nMain Course \n\n\nPan roasted 4oz fillet of Yorkshire beef – charred sprouts\, haggis bon bon\, caramelised onion & malt whisky jus (GFA) \n\n\nHerb crusted Scottish salmon – ‘Clap Shot’\, lemon\, shallot & dill sauce (GF) \n\n\nDessert \n\n\nCranachan cheesecake with fresh raspberries \n\n\nRabbie Burns whisky chocolate brownie – honey\, raspberries\, clotted cream \n\n\nTo Finish \n\n\nYorkshire tea or locally roasted coffee and a sweet treat \n\n\nTo book\, contact us at info@theinnsouthstainley.com
URL:https://www.theinnsouthstainley.com/event/burns-night/
LOCATION:The Inn South Stainley\, Ripon Road\, South Stainley\, Harrogate\, HG3 3ND\, United Kingdom
CATEGORIES:Events
ATTACH;FMTTYPE=image/jpeg:https://www.theinnsouthstainley.com/wp-content/uploads/2025/11/NYE-3.jpg
END:VEVENT
END:VCALENDAR