BEGIN:VCALENDAR
VERSION:2.0
PRODID:-//The Inn, South Stainley - ECPv6.11.2//NONSGML v1.0//EN
CALSCALE:GREGORIAN
METHOD:PUBLISH
X-WR-CALNAME:The Inn, South Stainley
X-ORIGINAL-URL:https://www.theinnsouthstainley.com
X-WR-CALDESC:Events for The Inn, South Stainley
REFRESH-INTERVAL;VALUE=DURATION:PT1H
X-Robots-Tag:noindex
X-PUBLISHED-TTL:PT1H
BEGIN:VTIMEZONE
TZID:Europe/London
BEGIN:DAYLIGHT
TZOFFSETFROM:+0000
TZOFFSETTO:+0100
TZNAME:BST
DTSTART:20250330T010000
END:DAYLIGHT
BEGIN:STANDARD
TZOFFSETFROM:+0100
TZOFFSETTO:+0000
TZNAME:GMT
DTSTART:20251026T010000
END:STANDARD
END:VTIMEZONE
BEGIN:VEVENT
DTSTART;TZID=Europe/London:20250524T160000
DTEND;TZID=Europe/London:20250524T203000
DTSTAMP:20260422T233808
CREATED:20250518T184820Z
LAST-MODIFIED:20250518T191113Z
UID:990-1748102400-1748118600@www.theinnsouthstainley.com
SUMMARY:4th Birthday Party
DESCRIPTION:Join us on Saturday 24th May as we celebrate 4 years of The Inn South Stainley with a relaxed and joyful afternoon of fizz\, cake and live music! \n🥂 Cake & Fizz at 4pm – All are welcome to raise a glass with us🎶 Live Acoustic Music in the Bar from 6pm – 8.30pm \nWhether you’ve been with us since the beginning or it’s your first visit\, we’d love to celebrate with you. Bring your friends\, bring the family – it’s going to be a brilliant evening! \nNo need to book for the bar\, just come along and join the fun.
URL:https://www.theinnsouthstainley.com/event/4th-birthday-party/
LOCATION:The Inn South Stainley\, Ripon Road\, South Stainley\, Harrogate\, HG3 3ND\, United Kingdom
CATEGORIES:Events
ATTACH;FMTTYPE=image/jpeg:https://www.theinnsouthstainley.com/wp-content/uploads/2025/05/4th-Birthday.jpg
END:VEVENT
END:VCALENDAR